BEGIN:VCALENDAR
VERSION:2.0
PRODID:-//Tukios.com/
BEGIN:VEVENT
UID:0030aef7-271d-493c-89ec-84b8a52a8998@www.mmsfuneralhomes.com
DTSTAMP:20260422T202507Z
DTSTART:20260502T150000Z
DTEND:20260502T160000Z
SUMMARY:Memorial Service
DESCRIPTION:
URL:https://www.mmsfuneralhomes.com/obituaries/charley-patton
LOCATION:First Baptist Church of Chelsea 413 Beech St  Chelsea OK 74016
GEO:36.5385062;-95.4339497
END:VEVENT
END:VCALENDAR