BEGIN:VCALENDAR
VERSION:2.0
PRODID:-//Tukios.com/
BEGIN:VEVENT
UID:8aa1b6a6-54d6-4832-b8ce-7c83cc048773@www.mmsfuneralhomes.com
DTSTAMP:20260422T010703Z
DTSTART:20260424T160000Z
DTEND:20260424T170000Z
SUMMARY:Graveside Service
DESCRIPTION:
URL:https://www.mmsfuneralhomes.com/obituaries/ernest-green-jr
LOCATION:Woodlawn Cemetery 310 S Nome Ave  Claremore OK 74017
GEO:36.3050166;-95.603377
END:VEVENT
END:VCALENDAR