BEGIN:VCALENDAR
VERSION:2.0
PRODID:-//Tukios.com/
BEGIN:VEVENT
UID:0098288d-32e4-4f84-b202-1df46c59b2d8@www.mmsfuneralhomes.com
DTSTAMP:20260424T231217Z
DTSTART:20260504T160000Z
DTEND:20260504T170000Z
SUMMARY:Graveside Service
DESCRIPTION:
URL:https://www.mmsfuneralhomes.com/obituaries/mildred-lewellen
LOCATION: 310 S Nome Ave  Claremore OK 74017
GEO:36.3050166;-95.603377
END:VEVENT
END:VCALENDAR