BEGIN:VCALENDAR
VERSION:2.0
PRODID:-//Tukios.com/
BEGIN:VEVENT
UID:62d1ade4-0e7d-4e0b-acea-f46909e2be48@www.mmsfuneralhomes.com
DTSTAMP:20260420T192743Z
DTSTART:20260425T150000Z
DTEND:20260425T160000Z
SUMMARY:Memorial Service
DESCRIPTION:
URL:https://www.mmsfuneralhomes.com/obituaries/suzan-thompson
LOCATION: 500 E Commercial St  Inola OK 74036
GEO:36.1560119;-95.5022805
END:VEVENT
END:VCALENDAR