BEGIN:VCALENDAR
VERSION:2.0
PRODID:-//Tukios.com/
BEGIN:VEVENT
UID:d8731c49-6165-4ea4-b353-7b503abe862b@www.mmsfuneralhomes.com
DTSTAMP:20260423T194021Z
DTSTART:20260503T200000Z
DTEND:20260503T220000Z
SUMMARY:Celebration of Life
DESCRIPTION:
URL:https://www.mmsfuneralhomes.com/obituaries/tonya-fox
LOCATION:Claremore Seventh-day Adventist Church - Food Distribution 
	Center 20555 S 4170 Rd  Claremore OK 74017
GEO:36.3132066;-95.5784033
END:VEVENT
END:VCALENDAR